BEGIN:VCALENDAR
VERSION:2.0
PRODID:-//rpi-baden.de//NONSGML kigkonsult.se iCalcreator 2.41.92//
CALSCALE:GREGORIAN
METHOD:PUBLISH
UID:33303135-6331-4433-a565-316465363435
X-WR-TIMEZONE:Europe/Berlin
X-LIC-LOCATION:Europe/Berlin
BEGIN:VTIMEZONE
TZID:Europe/Berlin
BEGIN:DAYLIGHT
TZOFFSETFROM:+0100
TZOFFSETTO:+0200
TZNAME:CEST
DTSTART:19700329T020000
RRULE:FREQ=YEARLY;BYDAY=-1SU;BYMONTH=3
END:DAYLIGHT
BEGIN:STANDARD
TZOFFSETFROM:+0200
TZOFFSETTO:+0100
TZNAME:CET
DTSTART:19701025T030000
RRULE:FREQ=YEARLY;BYDAY=-1SU;BYMONTH=10
END:STANDARD
END:VTIMEZONE
BEGIN:VEVENT
UID:64663830-3162-4430-a537-376137313866
DTSTAMP:20260421T160149Z
DESCRIPTION:Thomas Altmayer ist Medienpädagoge und leitet den Medienladen S
 aarbrücken. Er stellt Neuigkeiten aus dem elsässischen Filmfestival Augenb
 lick vor\, die für den Religionsunterricht interessant sind. Teilnahme kur
 zfristig möglich. Link zur Zoom-Konferenz: https://relilab.org/live\n \n V
 eranstalter:\n RPZ Zweibrücken und RPI Baden
DTSTART;TZID=Europe/Berlin:20260508T160000
DTEND;TZID=Europe/Berlin:20260508T170000
LOCATION:
SUMMARY:Wenn Filme Fragen stellen: Entdeckungen vom Festival Augenblick
X-ALT-DESC;FMTTYPE=text/html:Thomas Altmayer ist Medienpädagoge und leitet 
 den Medienladen Saarbrücken. Er stellt Neuigkeiten aus dem elsässischen Fi
 lmfestival Augenblick vor\, die für den Religionsunterricht interessant si
 nd.\n Teilnahme kurzfristig möglich.\n Link zur Zoom-Konferenz: https://re
 lilab.org/live<br /><br />Veranstalter: <br />RPZ Zweibrücken und RPI Bade
 n
END:VEVENT
END:VCALENDAR
