BEGIN:VCALENDAR
VERSION:2.0
PRODID:-//rpi-baden.de//NONSGML kigkonsult.se iCalcreator 2.41.92//
CALSCALE:GREGORIAN
METHOD:PUBLISH
UID:36333833-6663-4137-b836-643834316631
X-WR-TIMEZONE:Europe/Berlin
X-LIC-LOCATION:Europe/Berlin
BEGIN:VTIMEZONE
TZID:Europe/Berlin
BEGIN:DAYLIGHT
TZOFFSETFROM:+0100
TZOFFSETTO:+0200
TZNAME:CEST
DTSTART:19700329T020000
RRULE:FREQ=YEARLY;BYDAY=-1SU;BYMONTH=3
END:DAYLIGHT
BEGIN:STANDARD
TZOFFSETFROM:+0200
TZOFFSETTO:+0100
TZNAME:CET
DTSTART:19701025T030000
RRULE:FREQ=YEARLY;BYDAY=-1SU;BYMONTH=10
END:STANDARD
END:VTIMEZONE
BEGIN:VEVENT
UID:38303836-3261-4636-a566-383837626636
DTSTAMP:20260421T193639Z
DESCRIPTION:Einführungs-Veranstaltung und Kreativ-Workshop\n \n Am Samstag\
 , den 25. April lädt die Regionalgruppe Baden zum Godly Play-Tag in die Ev
 ang. Jakobus-Grundschule in Karlsruhe ein. Zwischen 10 bis 16 Uhr besteht 
 die Gelegenheit\, andere Godly Play kennenzulernen\, Erzählerinnen und -Er
 zähler zu treffen und zwei Geschichten zu erleben. Alle Interessierten und
  Neuen können bei der Einführungsveranstaltung das Konzept von Godly Play 
 entdecken. Für mit Godly Play Vertraute bieten wir einen Kreativ-Workshop 
 an. Es wird das Gleichnis vom Guten Hirten gebastelt. Dabei besteht die Ge
 legenheit zum Gespräch und der Vertiefung. Flyer Download\n \n Veranstalte
 r:\n Regionalgruppe Godly Play in Baden
DTSTART;TZID=Europe/Berlin:20260425T100000
DTEND;TZID=Europe/Berlin:20260425T160000
LOCATION:
SUMMARY:Godly Play Regionaltreffen Baden
X-ALT-DESC;FMTTYPE=text/html:Einführungs-Veranstaltung und Kreativ-Workshop
 <br /><br />Am Samstag\, den 25. April lädt die Regionalgruppe Baden zum G
 odly Play-Tag in die Evang. Jakobus-Grundschule in Karlsruhe ein. Zwischen
  10 bis 16 Uhr besteht die Gelegenheit\, andere Godly Play kennenzulernen\
 , Erzählerinnen und -Erzähler zu treffen und zwei Geschichten zu erleben. 
 Alle Interessierten und Neuen können bei der Einführungsveranstaltung das 
 Konzept von Godly Play entdecken. Für mit Godly Play Vertraute bieten wir 
 einen Kreativ-Workshop an. Es wird das Gleichnis vom Guten Hirten gebastel
 t. Dabei besteht die Gelegenheit zum Gespräch und der Vertiefung.\n \n Fly
 er Download<br /><br />Veranstalter: <br />Regionalgruppe Godly Play in Ba
 den
END:VEVENT
END:VCALENDAR
