BEGIN:VCALENDAR
VERSION:2.0
PRODID:-//rpi-baden.de//NONSGML kigkonsult.se iCalcreator 2.41.92//
CALSCALE:GREGORIAN
METHOD:PUBLISH
UID:39383163-6231-4235-b033-343766383536
X-WR-TIMEZONE:Europe/Berlin
X-LIC-LOCATION:Europe/Berlin
BEGIN:VTIMEZONE
TZID:Europe/Berlin
BEGIN:DAYLIGHT
TZOFFSETFROM:+0100
TZOFFSETTO:+0200
TZNAME:CEST
DTSTART:19700329T020000
RRULE:FREQ=YEARLY;BYDAY=-1SU;BYMONTH=3
END:DAYLIGHT
BEGIN:STANDARD
TZOFFSETFROM:+0200
TZOFFSETTO:+0100
TZNAME:CET
DTSTART:19701025T030000
RRULE:FREQ=YEARLY;BYDAY=-1SU;BYMONTH=10
END:STANDARD
END:VTIMEZONE
BEGIN:VEVENT
UID:31313139-3064-4430-a539-323337373663
DTSTAMP:20260421T195524Z
DESCRIPTION:Vorstellung von Kurzfilmen für die Jahrgangsstufe 9/10/11. Ausw
 ertung und Reflexion über den bildungsplanbezogenen Einsatz dieser Medien.
  Dazu Materialvorschläge und Ideenaustausch.\n \n Veranstalter:\n Religion
 spädagogisches Institut der ev. Landeskirche in Baden (RPI) in Kooperation
  mit dem Zentrum für Schulqualität und Lehrerbildung (ZSL)
DTSTART;TZID=Europe/Berlin:20270304T143000
DTEND;TZID=Europe/Berlin:20270304T170000
LOCATION:
SUMMARY:Kurzfilme im Religionsunterricht in der Sekundarstufe I - Jahrgangs
 stufe 9/10/11 - 04.03.2027
X-ALT-DESC;FMTTYPE=text/html:Vorstellung von Kurzfilmen für die Jahrgangsst
 ufe 9/10/11. Auswertung und Reflexion über den bildungsplanbezogenen Einsa
 tz dieser Medien. Dazu Materialvorschläge und Ideenaustausch.<br /><br />V
 eranstalter: <br />Religionspädagogisches Institut der ev. Landeskirche in
  Baden (RPI) in Kooperation mit dem Zentrum für Schulqualität und Lehrerbi
 ldung (ZSL)
END:VEVENT
END:VCALENDAR
