BEGIN:VCALENDAR
VERSION:2.0
PRODID:-//rpi-baden.de//NONSGML kigkonsult.se iCalcreator 2.41.92//
CALSCALE:GREGORIAN
METHOD:PUBLISH
UID:66626436-6265-4266-b266-383030623463
X-WR-TIMEZONE:Europe/Berlin
X-LIC-LOCATION:Europe/Berlin
BEGIN:VTIMEZONE
TZID:Europe/Berlin
BEGIN:DAYLIGHT
TZOFFSETFROM:+0100
TZOFFSETTO:+0200
TZNAME:CEST
DTSTART:19700329T020000
RRULE:FREQ=YEARLY;BYDAY=-1SU;BYMONTH=3
END:DAYLIGHT
BEGIN:STANDARD
TZOFFSETFROM:+0200
TZOFFSETTO:+0100
TZNAME:CET
DTSTART:19701025T030000
RRULE:FREQ=YEARLY;BYDAY=-1SU;BYMONTH=10
END:STANDARD
END:VTIMEZONE
BEGIN:VEVENT
UID:61313764-3838-4433-b139-306238303135
DTSTAMP:20260421T193419Z
DESCRIPTION:ABGESAGT - für Lehramtsanwärter*innen und Lehrer*innen in den e
 rsten 5 Berufsjahren\, die Ev. RU unterrichten\n \n Veranstalter:\n Religi
 onspädagogisches Institut der ev. Landeskirche in Baden (RPI)\n Blumenstra
 ße 1-7\n 76133 Karlsruhe\n Telefon: +49 721 9175-420\n http://www.rpi-bade
 n.de
DTSTART;TZID=Europe/Berlin:20260626T170000
DTEND;TZID=Europe/Berlin:20260628T130000
LOCATION:
SUMMARY:Kraftquelle
X-ALT-DESC;FMTTYPE=text/html:ABGESAGT - für Lehramtsanwärter*innen und Lehr
 er*innen in den ersten 5 Berufsjahren\, die Ev. RU unterrichten<br /><br /
 >Veranstalter: <br />Religionspädagogisches Institut der ev. Landeskirche 
 in Baden (RPI)<br />Blumenstraße 1-7<br />76133 Karlsruhe<br />Telefon: +4
 9 721 9175-420<br />http://www.rpi-baden.de
END:VEVENT
END:VCALENDAR
