BEGIN:VCALENDAR
VERSION:2.0
PRODID:-//rpi-baden.de//NONSGML kigkonsult.se iCalcreator 2.41.92//
CALSCALE:GREGORIAN
METHOD:PUBLISH
UID:66303138-3136-4365-b630-393166303965
X-WR-TIMEZONE:Europe/Berlin
X-LIC-LOCATION:Europe/Berlin
BEGIN:VTIMEZONE
TZID:Europe/Berlin
BEGIN:DAYLIGHT
TZOFFSETFROM:+0100
TZOFFSETTO:+0200
TZNAME:CEST
DTSTART:19700329T020000
RRULE:FREQ=YEARLY;BYDAY=-1SU;BYMONTH=3
END:DAYLIGHT
BEGIN:STANDARD
TZOFFSETFROM:+0200
TZOFFSETTO:+0100
TZNAME:CET
DTSTART:19701025T030000
RRULE:FREQ=YEARLY;BYDAY=-1SU;BYMONTH=10
END:STANDARD
END:VTIMEZONE
BEGIN:VEVENT
UID:31616234-3862-4738-b836-666261383630
DTSTAMP:20260421T213557Z
DESCRIPTION:Veranstalter:\n Religionspädagogisches Institut der ev. Landesk
 irche in Baden (RPI) in Kooperation mit dem Zentrum für Schulqualität und 
 Lehrerbildung (ZSL)
DTSTART;TZID=Europe/Berlin:20260521T150000
DTEND;TZID=Europe/Berlin:20260521T170000
LOCATION:
SUMMARY:Musik und Singen im Religionsunterricht
X-ALT-DESC;FMTTYPE=text/html:Veranstalter: <br />Religionspädagogisches Ins
 titut der ev. Landeskirche in Baden (RPI) in Kooperation mit dem Zentrum f
 ür Schulqualität und Lehrerbildung (ZSL)
END:VEVENT
END:VCALENDAR
