BEGIN:VCALENDAR
VERSION:2.0
PRODID:-//rpi-baden.de//NONSGML kigkonsult.se iCalcreator 2.41.92//
CALSCALE:GREGORIAN
METHOD:PUBLISH
UID:32643265-3234-4131-a439-343738653965
X-WR-TIMEZONE:Europe/Berlin
X-LIC-LOCATION:Europe/Berlin
BEGIN:VTIMEZONE
TZID:Europe/Berlin
BEGIN:DAYLIGHT
TZOFFSETFROM:+0100
TZOFFSETTO:+0200
TZNAME:CEST
DTSTART:19700329T020000
RRULE:FREQ=YEARLY;BYDAY=-1SU;BYMONTH=3
END:DAYLIGHT
BEGIN:STANDARD
TZOFFSETFROM:+0200
TZOFFSETTO:+0100
TZNAME:CET
DTSTART:19701025T030000
RRULE:FREQ=YEARLY;BYDAY=-1SU;BYMONTH=10
END:STANDARD
END:VTIMEZONE
BEGIN:VEVENT
UID:35646366-6333-4930-b737-343964313732
DTSTAMP:20260421T193855Z
DESCRIPTION:Veranstalter:\n Religionspädagogisches Institut der ev. Landesk
 irche in Baden (RPI)\n Blumenstraße 1-7\n 76133 Karlsruhe\n Telefon: +49 7
 21 9175-420\n http://www.rpi-baden.de
DTSTART;TZID=Europe/Berlin:20260624T140000
DTEND;TZID=Europe/Berlin:20260626T123000
LOCATION:
SUMMARY:„Wie ist das\, wenn man tot ist?“ Abschied\, Tod und Trauer im Reli
 gionsunterricht der Grundschule
X-ALT-DESC;FMTTYPE=text/html:Veranstalter: <br />Religionspädagogisches Ins
 titut der ev. Landeskirche in Baden (RPI)<br />Blumenstraße 1-7<br />76133
  Karlsruhe<br />Telefon: +49 721 9175-420<br />http://www.rpi-baden.de
END:VEVENT
END:VCALENDAR
