BEGIN:VCALENDAR
VERSION:2.0
PRODID:-//rpi-baden.de//NONSGML kigkonsult.se iCalcreator 2.41.92//
CALSCALE:GREGORIAN
METHOD:PUBLISH
UID:37636530-6165-4234-b364-306439666366
X-WR-TIMEZONE:Europe/Berlin
X-LIC-LOCATION:Europe/Berlin
BEGIN:VTIMEZONE
TZID:Europe/Berlin
BEGIN:DAYLIGHT
TZOFFSETFROM:+0100
TZOFFSETTO:+0200
TZNAME:CEST
DTSTART:19700329T020000
RRULE:FREQ=YEARLY;BYDAY=-1SU;BYMONTH=3
END:DAYLIGHT
BEGIN:STANDARD
TZOFFSETFROM:+0200
TZOFFSETTO:+0100
TZNAME:CET
DTSTART:19701025T030000
RRULE:FREQ=YEARLY;BYDAY=-1SU;BYMONTH=10
END:STANDARD
END:VTIMEZONE
BEGIN:VEVENT
UID:38336531-6232-4332-b461-333363363337
DTSTAMP:20260421T174937Z
DESCRIPTION:Diese Veranstaltung findet in Kooperation des RPI Baden und dem
  ptz Württemberg statt. Konfi-Arbeit ist (immer) in Bewegung. Gruppengröße
 n verändern sich. Es finden sich Gemeinden und Teams zusammen\, die Konfi-
 Arbeit gestalten.\n \n Veranstaltungsort:\n Evangelische Tagungsstätte Löw
 enstein (Altenhaus 57\, 74245 Löwenstein\, Landkreis Heilbronn)\n \n Veran
 stalter:\n Evang. Oberkirchenrat Karlsruhe\, RPI und ptz Stuttgart (R)\n F
 rau Simnacher\n Grüninger Straße 25\n 70599 Stuttgart\n Telefon: 0711 4580
 4-0\n Telefax: 0711 45804-77
DTSTART;TZID=Europe/Berlin:20261015T100000
DTEND;TZID=Europe/Berlin:20261016T163000
LOCATION:Evangelische Tagungsstätte Löwenstein (Altenhaus 57\, 74245 Löwens
 tein\, Landkreis Heilbronn)
SUMMARY:Neu durchstarten in der Konfi-Arbeit Impulse für ein Konfi-Jahr
X-ALT-DESC;FMTTYPE=text/html:Diese Veranstaltung findet in Kooperation des 
 RPI Baden und dem ptz Württemberg statt. Konfi-Arbeit ist (immer) in Beweg
 ung. Gruppengrößen verändern sich. Es finden sich Gemeinden und Teams zusa
 mmen\, die Konfi-Arbeit gestalten.<br /><br />Veranstaltungsort: <br />Eva
 ngelische Tagungsstätte Löwenstein (Altenhaus 57\, 74245 Löwenstein\, Land
 kreis Heilbronn)<br /><br />Veranstalter: <br />Evang. Oberkirchenrat Karl
 sruhe\, RPI und ptz Stuttgart (R)<br />Frau Simnacher<br />Grüninger Straß
 e 25<br />70599 Stuttgart<br />Telefon: 0711 45804-0<br />Telefax: 0711 45
 804-77
END:VEVENT
END:VCALENDAR
