BEGIN:VCALENDAR
VERSION:2.0
PRODID:-//rpi-baden.de//NONSGML kigkonsult.se iCalcreator 2.41.92//
CALSCALE:GREGORIAN
METHOD:PUBLISH
UID:65353066-6561-4031-a230-343566613762
X-WR-TIMEZONE:Europe/Berlin
X-LIC-LOCATION:Europe/Berlin
BEGIN:VTIMEZONE
TZID:Europe/Berlin
BEGIN:DAYLIGHT
TZOFFSETFROM:+0100
TZOFFSETTO:+0200
TZNAME:CEST
DTSTART:19700329T020000
RRULE:FREQ=YEARLY;BYDAY=-1SU;BYMONTH=3
END:DAYLIGHT
BEGIN:STANDARD
TZOFFSETFROM:+0200
TZOFFSETTO:+0100
TZNAME:CET
DTSTART:19701025T030000
RRULE:FREQ=YEARLY;BYDAY=-1SU;BYMONTH=10
END:STANDARD
END:VTIMEZONE
BEGIN:VEVENT
UID:39663933-3038-4361-a361-353766626161
DTSTAMP:20260421T172812Z
DESCRIPTION:veranstaltet von den Ev. Landeskirchen in Baden und Württemberg
  in Kooperation mit dem ZSL und Studium in Israel e. V.\n \n Veranstaltung
 sort:\n Israel\n \n Veranstalter:\n Religionspädagogisches Institut der ev
 . Landeskirche in Baden (RPI)\n Blumenstraße 1-7\n 76133 Karlsruhe\n Telef
 on: +49 721 9175-420\n http://www.rpi-baden.de
DTSTART;VALUE=DATE:20260526
DTEND;VALUE=DATE:20260605
LOCATION:Israel
SUMMARY:Fortbildung in Yad Vashem und Jerusalem
X-ALT-DESC;FMTTYPE=text/html:veranstaltet von den Ev. Landeskirchen in Bade
 n und Württemberg in Kooperation mit dem ZSL und Studium in Israel e. V.<b
 r /><br />Veranstaltungsort: <br />Israel<br /><br />Veranstalter: <br />R
 eligionspädagogisches Institut der ev. Landeskirche in Baden (RPI)<br />Bl
 umenstraße 1-7<br />76133 Karlsruhe<br />Telefon: +49 721 9175-420<br />ht
 tp://www.rpi-baden.de
END:VEVENT
END:VCALENDAR
