BEGIN:VCALENDAR
VERSION:2.0
PRODID:-//rpi-baden.de//NONSGML kigkonsult.se iCalcreator 2.41.92//
CALSCALE:GREGORIAN
METHOD:PUBLISH
UID:64346463-3538-4538-b065-346432396332
X-WR-TIMEZONE:Europe/Berlin
X-LIC-LOCATION:Europe/Berlin
BEGIN:VTIMEZONE
TZID:Europe/Berlin
BEGIN:DAYLIGHT
TZOFFSETFROM:+0100
TZOFFSETTO:+0200
TZNAME:CEST
DTSTART:19700329T020000
RRULE:FREQ=YEARLY;BYDAY=-1SU;BYMONTH=3
END:DAYLIGHT
BEGIN:STANDARD
TZOFFSETFROM:+0200
TZOFFSETTO:+0100
TZNAME:CET
DTSTART:19701025T030000
RRULE:FREQ=YEARLY;BYDAY=-1SU;BYMONTH=10
END:STANDARD
END:VTIMEZONE
BEGIN:VEVENT
UID:39393139-3461-4632-a537-323866313035
DTSTAMP:20260421T175356Z
DESCRIPTION:Schöpfung und Urknall\n \n Veranstaltungsort:\n Online\n \n Ver
 anstalter:\n ptz Stuttgart und RPI Karlsruhe\n Frau Burkhardt\n Grüninger 
 Straße 25\n 70599 Stuttgart
DTSTART;TZID=Europe/Berlin:20260512T150000
DTEND;TZID=Europe/Berlin:20260512T170000
LOCATION:Online
SUMMARY:Die Welt aus unterschiedlichen Perspektiven betrachten
X-ALT-DESC;FMTTYPE=text/html:Schöpfung und Urknall<br /><br />Veranstaltung
 sort: <br />Online<br /><br />Veranstalter: <br />ptz Stuttgart und RPI Ka
 rlsruhe<br />Frau Burkhardt<br />Grüninger Straße 25<br />70599 Stuttgart
END:VEVENT
END:VCALENDAR
