BEGIN:VCALENDAR
VERSION:2.0
PRODID:-//rpi-baden.de//NONSGML kigkonsult.se iCalcreator 2.41.92//
CALSCALE:GREGORIAN
METHOD:PUBLISH
UID:33303531-3139-4735-b930-356261623065
X-WR-TIMEZONE:Europe/Berlin
X-LIC-LOCATION:Europe/Berlin
BEGIN:VTIMEZONE
TZID:Europe/Berlin
BEGIN:DAYLIGHT
TZOFFSETFROM:+0100
TZOFFSETTO:+0200
TZNAME:CEST
DTSTART:19700329T020000
RRULE:FREQ=YEARLY;BYDAY=-1SU;BYMONTH=3
END:DAYLIGHT
BEGIN:STANDARD
TZOFFSETFROM:+0200
TZOFFSETTO:+0100
TZNAME:CET
DTSTART:19701025T030000
RRULE:FREQ=YEARLY;BYDAY=-1SU;BYMONTH=10
END:STANDARD
END:VTIMEZONE
BEGIN:VEVENT
UID:37386665-3432-4333-b362-316665303864
DTSTAMP:20260421T160204Z
DESCRIPTION:Vorstellung von Kurzfilmen zum Thema „Sterben\, Tod\, Aufersteh
 ung“. Auswertung und Reflexion über den bildungsplanbezogenen Einsatz dies
 er Medien. Dazu Materialvorschläge und Ideenaustausch.\n \n Veranstaltungs
 ort:\n digitale Veranstaltung\n \n Veranstalter:\n Religionspädagogisches 
 Institut der ev. Landeskirche in Baden (RPI) in Kooperation mit dem Zentru
 m für Schulqualität und Lehrerbildung (ZSL)
DTSTART;TZID=Europe/Berlin:20261020T143000
DTEND;TZID=Europe/Berlin:20261020T170000
LOCATION:digitale Veranstaltung
SUMMARY:Kurzfilme im Religionsunterricht: Sterben\, Tod\, Leben?!!
X-ALT-DESC;FMTTYPE=text/html:Vorstellung von Kurzfilmen zum Thema „Sterben\
 , Tod\, Auferstehung“. Auswertung und Reflexion über den bildungsplanbezog
 enen Einsatz dieser Medien. Dazu Materialvorschläge und Ideenaustausch.<br
  /><br />Veranstaltungsort: <br />digitale Veranstaltung<br /><br />Verans
 talter: <br />Religionspädagogisches Institut der ev. Landeskirche in Bade
 n (RPI) in Kooperation mit dem Zentrum für Schulqualität und Lehrerbildung
  (ZSL)
END:VEVENT
END:VCALENDAR
