BEGIN:VCALENDAR
VERSION:2.0
PRODID:-//rpi-baden.de//NONSGML kigkonsult.se iCalcreator 2.41.92//
CALSCALE:GREGORIAN
METHOD:PUBLISH
UID:37636533-3337-4366-a237-373334636438
X-WR-TIMEZONE:Europe/Berlin
X-LIC-LOCATION:Europe/Berlin
BEGIN:VTIMEZONE
TZID:Europe/Berlin
BEGIN:DAYLIGHT
TZOFFSETFROM:+0100
TZOFFSETTO:+0200
TZNAME:CEST
DTSTART:19700329T020000
RRULE:FREQ=YEARLY;BYDAY=-1SU;BYMONTH=3
END:DAYLIGHT
BEGIN:STANDARD
TZOFFSETFROM:+0200
TZOFFSETTO:+0100
TZNAME:CET
DTSTART:19701025T030000
RRULE:FREQ=YEARLY;BYDAY=-1SU;BYMONTH=10
END:STANDARD
END:VTIMEZONE
BEGIN:VEVENT
UID:65633736-3934-4465-a465-376334346633
DTSTAMP:20260421T193931Z
DESCRIPTION:Vorstellung von Kurzfilmen für die Oberstufe. Auswertung und Re
 flexion über den bildungsplanbezogenen Einsatz dieser Medien. Dazu Materia
 lvorschläge und Ideenaustausch.\n \n Veranstaltungsort:\n digitale Veranst
 altung\n \n Veranstalter:\n Religionspädagogisches Institut der ev. Landes
 kirche in Baden (RPI) in Kooperation mit dem Zentrum für Schulqualität und
  Lehrerbildung (ZSL)
DTSTART;TZID=Europe/Berlin:20261109T143000
DTEND;TZID=Europe/Berlin:20261109T170000
LOCATION:digitale Veranstaltung
SUMMARY:Kurzfilme im Religionsunterricht in der Sekundarstufe II - Oberstuf
 e
X-ALT-DESC;FMTTYPE=text/html:Vorstellung von Kurzfilmen für die Oberstufe. 
 Auswertung und Reflexion über den bildungsplanbezogenen Einsatz dieser Med
 ien. Dazu Materialvorschläge und Ideenaustausch.<br /><br />Veranstaltungs
 ort: <br />digitale Veranstaltung<br /><br />Veranstalter: <br />Religions
 pädagogisches Institut der ev. Landeskirche in Baden (RPI) in Kooperation 
 mit dem Zentrum für Schulqualität und Lehrerbildung (ZSL)
END:VEVENT
END:VCALENDAR
