BEGIN:VCALENDAR
VERSION:2.0
PRODID:-//rpi-baden.de//NONSGML kigkonsult.se iCalcreator 2.41.92//
CALSCALE:GREGORIAN
METHOD:PUBLISH
UID:65333063-6562-4165-a434-386538323138
X-WR-TIMEZONE:Europe/Berlin
X-LIC-LOCATION:Europe/Berlin
BEGIN:VTIMEZONE
TZID:Europe/Berlin
BEGIN:DAYLIGHT
TZOFFSETFROM:+0100
TZOFFSETTO:+0200
TZNAME:CEST
DTSTART:19700329T020000
RRULE:FREQ=YEARLY;BYDAY=-1SU;BYMONTH=3
END:DAYLIGHT
BEGIN:STANDARD
TZOFFSETFROM:+0200
TZOFFSETTO:+0100
TZNAME:CET
DTSTART:19701025T030000
RRULE:FREQ=YEARLY;BYDAY=-1SU;BYMONTH=10
END:STANDARD
END:VTIMEZONE
BEGIN:VEVENT
UID:32626263-3030-4139-a361-306133316638
DTSTAMP:20260421T193926Z
DESCRIPTION:Vorstellung von Kurzfilmen für die Jahrgangsstufe 7/8. Auswertu
 ng und Reflexion über den bildungsplanbezogenen Einsatz dieser Medien. Daz
 u Materialvorschläge und Ideenaustausch.\n \n Veranstaltungsort:\n digital
 e Veranstaltung\n \n Veranstalter:\n Religionspädagogisches Institut der e
 v. Landeskirche in Baden (RPI) in Kooperation mit dem Zentrum für Schulqua
 lität und Lehrerbildung (ZSL)
DTSTART;TZID=Europe/Berlin:20270415T143000
DTEND;TZID=Europe/Berlin:20270415T170000
LOCATION:digitale Veranstaltung
SUMMARY:Kurzfilme im Religionsunterricht in der Sekundarstufe I - Jahrgangs
 stufe 7/8
X-ALT-DESC;FMTTYPE=text/html:Vorstellung von Kurzfilmen für die Jahrgangsst
 ufe 7/8. Auswertung und Reflexion über den bildungsplanbezogenen Einsatz d
 ieser Medien. Dazu Materialvorschläge und Ideenaustausch.<br /><br />Veran
 staltungsort: <br />digitale Veranstaltung<br /><br />Veranstalter: <br />
 Religionspädagogisches Institut der ev. Landeskirche in Baden (RPI) in Koo
 peration mit dem Zentrum für Schulqualität und Lehrerbildung (ZSL)
END:VEVENT
END:VCALENDAR
