BEGIN:VCALENDAR
VERSION:2.0
PRODID:-//rpi-baden.de//NONSGML kigkonsult.se iCalcreator 2.41.92//
CALSCALE:GREGORIAN
METHOD:PUBLISH
UID:34313032-3139-4361-a334-373538653735
X-WR-TIMEZONE:Europe/Berlin
X-LIC-LOCATION:Europe/Berlin
BEGIN:VTIMEZONE
TZID:Europe/Berlin
BEGIN:DAYLIGHT
TZOFFSETFROM:+0100
TZOFFSETTO:+0200
TZNAME:CEST
DTSTART:19700329T020000
RRULE:FREQ=YEARLY;BYDAY=-1SU;BYMONTH=3
END:DAYLIGHT
BEGIN:STANDARD
TZOFFSETFROM:+0200
TZOFFSETTO:+0100
TZNAME:CET
DTSTART:19701025T030000
RRULE:FREQ=YEARLY;BYDAY=-1SU;BYMONTH=10
END:STANDARD
END:VTIMEZONE
BEGIN:VEVENT
UID:30353665-3464-4134-b935-656630356236
DTSTAMP:20260421T140147Z
DESCRIPTION:Zu unseren Schulgemeinschaften gehören zunehmen mehr Schüler/in
 nen unterschiedlicher Religionen und Weltanschauungen. Wie können da beson
 dere Ereignisse wie Aufnahme und Entlass (Schuljahresanfang und -ende oder
  Trauer) feierlich begangen werden?\n \n Veranstaltungsort:\n digitale Ver
 anstaltung\n \n Veranstalter:\n Religionspädagogisches Institut der ev. La
 ndeskirche in Baden (RPI)\n Blumenstraße 1-7\n 76133 Karlsruhe\n Telefon: 
 +49 721 9175-420\n http://www.rpi-baden.de
DTSTART;TZID=Europe/Berlin:20260423T183000
DTEND;TZID=Europe/Berlin:20260423T193000
LOCATION:digitale Veranstaltung
SUMMARY:Alle unter einem Dach – Besondere Ereignisse im Schuljahr multireli
 giös begehen
X-ALT-DESC;FMTTYPE=text/html:Zu unseren Schulgemeinschaften gehören zunehme
 n mehr Schüler/innen unterschiedlicher Religionen und Weltanschauungen. Wi
 e können da besondere Ereignisse wie Aufnahme und Entlass (Schuljahresanfa
 ng und -ende oder Trauer) feierlich begangen werden?<br /><br />Veranstalt
 ungsort: <br />digitale Veranstaltung<br /><br />Veranstalter: <br />Relig
 ionspädagogisches Institut der ev. Landeskirche in Baden (RPI)<br />Blumen
 straße 1-7<br />76133 Karlsruhe<br />Telefon: +49 721 9175-420<br />http:/
 /www.rpi-baden.de
END:VEVENT
END:VCALENDAR
