BEGIN:VCALENDAR
VERSION:2.0
PRODID:-//rpi-baden.de//NONSGML kigkonsult.se iCalcreator 2.41.92//
CALSCALE:GREGORIAN
METHOD:PUBLISH
UID:34376262-3265-4662-a661-626563633432
X-WR-TIMEZONE:Europe/Berlin
X-LIC-LOCATION:Europe/Berlin
BEGIN:VTIMEZONE
TZID:Europe/Berlin
BEGIN:DAYLIGHT
TZOFFSETFROM:+0100
TZOFFSETTO:+0200
TZNAME:CEST
DTSTART:19700329T020000
RRULE:FREQ=YEARLY;BYDAY=-1SU;BYMONTH=3
END:DAYLIGHT
BEGIN:STANDARD
TZOFFSETFROM:+0200
TZOFFSETTO:+0100
TZNAME:CET
DTSTART:19701025T030000
RRULE:FREQ=YEARLY;BYDAY=-1SU;BYMONTH=10
END:STANDARD
END:VTIMEZONE
BEGIN:VEVENT
UID:32623538-3438-4638-a637-636333343439
DTSTAMP:20260421T140041Z
DESCRIPTION:Mit unterschiedlichen Religionen über Jahresfeste im Schuljahr 
 in einen wertschätzenden Austausch zu treten. Es werden Gestaltungsideen f
 ür schulische multireligiöse Feiern im Jahreskreis werden vorgestellt.\n 
 \n Veranstaltungsort:\n digitale Veranstaltung\n \n Veranstalter:\n Religi
 onspädagogisches Institut der ev. Landeskirche in Baden (RPI)\n Blumenstra
 ße 1-7\n 76133 Karlsruhe\n Telefon: +49 721 9175-420\n http://www.rpi-bade
 n.de
DTSTART;TZID=Europe/Berlin:20260430T183000
DTEND;TZID=Europe/Berlin:20260430T193000
LOCATION:digitale Veranstaltung
SUMMARY:Jahresfeste multireligiös begehen
X-ALT-DESC;FMTTYPE=text/html:Mit unterschiedlichen Religionen über Jahresfe
 ste im Schuljahr in einen wertschätzenden Austausch zu treten. Es werden G
 estaltungsideen für schulische multireligiöse Feiern im Jahreskreis werden
  vorgestellt.<br /><br />Veranstaltungsort: <br />digitale Veranstaltung<b
 r /><br />Veranstalter: <br />Religionspädagogisches Institut der ev. Land
 eskirche in Baden (RPI)<br />Blumenstraße 1-7<br />76133 Karlsruhe<br />Te
 lefon: +49 721 9175-420<br />http://www.rpi-baden.de
END:VEVENT
END:VCALENDAR
