BEGIN:VCALENDAR
VERSION:2.0
PRODID:-//rpi-baden.de//NONSGML kigkonsult.se iCalcreator 2.41.92//
CALSCALE:GREGORIAN
METHOD:PUBLISH
UID:30306530-6362-4337-b937-366632343635
X-WR-TIMEZONE:Europe/Berlin
X-LIC-LOCATION:Europe/Berlin
BEGIN:VTIMEZONE
TZID:Europe/Berlin
BEGIN:DAYLIGHT
TZOFFSETFROM:+0100
TZOFFSETTO:+0200
TZNAME:CEST
DTSTART:19700329T020000
RRULE:FREQ=YEARLY;BYDAY=-1SU;BYMONTH=3
END:DAYLIGHT
BEGIN:STANDARD
TZOFFSETFROM:+0200
TZOFFSETTO:+0100
TZNAME:CET
DTSTART:19701025T030000
RRULE:FREQ=YEARLY;BYDAY=-1SU;BYMONTH=10
END:STANDARD
END:VTIMEZONE
BEGIN:VEVENT
UID:66633839-6132-4135-b363-396537336339
DTSTAMP:20260421T211839Z
DESCRIPTION:Online-Fortbildung für Religionslehrkräfte\, die in diesem Schu
 ljahr neu am SBBZ unterrichten\n \n Veranstaltungsort:\n Online\n \n Veran
 stalter:\n Religionspädagogisches Institut der ev. Landeskirche in Baden (
 RPI)\n Blumenstraße 1-7\n 76133 Karlsruhe\n Telefon: +49 721 9175-420\n ht
 tp://www.rpi-baden.de
DTSTART;TZID=Europe/Berlin:20260922T150000
DTEND;TZID=Europe/Berlin:20260922T170000
LOCATION:Online
SUMMARY:Neu am SBBZ - online
X-ALT-DESC;FMTTYPE=text/html:Online-Fortbildung für Religionslehrkräfte\, d
 ie in diesem Schuljahr neu am SBBZ unterrichten<br /><br />Veranstaltungso
 rt: <br />Online<br /><br />Veranstalter: <br />Religionspädagogisches Ins
 titut der ev. Landeskirche in Baden (RPI)<br />Blumenstraße 1-7<br />76133
  Karlsruhe<br />Telefon: +49 721 9175-420<br />http://www.rpi-baden.de
END:VEVENT
END:VCALENDAR
