BEGIN:VCALENDAR
VERSION:2.0
PRODID:-//rpi-baden.de//NONSGML kigkonsult.se iCalcreator 2.41.92//
CALSCALE:GREGORIAN
METHOD:PUBLISH
UID:38393530-3934-4430-a536-653766333633
X-WR-TIMEZONE:Europe/Berlin
X-LIC-LOCATION:Europe/Berlin
BEGIN:VTIMEZONE
TZID:Europe/Berlin
BEGIN:DAYLIGHT
TZOFFSETFROM:+0100
TZOFFSETTO:+0200
TZNAME:CEST
DTSTART:19700329T020000
RRULE:FREQ=YEARLY;BYDAY=-1SU;BYMONTH=3
END:DAYLIGHT
BEGIN:STANDARD
TZOFFSETFROM:+0200
TZOFFSETTO:+0100
TZNAME:CET
DTSTART:19701025T030000
RRULE:FREQ=YEARLY;BYDAY=-1SU;BYMONTH=10
END:STANDARD
END:VTIMEZONE
BEGIN:VEVENT
UID:35656263-3565-4735-b962-653939313263
DTSTAMP:20260421T231508Z
DESCRIPTION:Veranstaltungsort:\n Online\n \n Veranstalter:\n Religionspädag
 ogisches Institut der ev. Landeskirche in Baden (RPI)\n Blumenstraße 1-7\n
  76133 Karlsruhe\n Telefon: +49 721 9175-420\n http://www.rpi-baden.de
DTSTART;TZID=Europe/Berlin:20260623T150000
DTEND;TZID=Europe/Berlin:20260623T170000
LOCATION:Online
SUMMARY:Mut zur Lücke – Elementarisierung im  Religionsunterricht
X-ALT-DESC;FMTTYPE=text/html:Veranstaltungsort: <br />Online<br /><br />Ver
 anstalter: <br />Religionspädagogisches Institut der ev. Landeskirche in B
 aden (RPI)<br />Blumenstraße 1-7<br />76133 Karlsruhe<br />Telefon: +49 72
 1 9175-420<br />http://www.rpi-baden.de
END:VEVENT
END:VCALENDAR
