BEGIN:VCALENDAR
VERSION:2.0
PRODID:-//rpi-baden.de//NONSGML kigkonsult.se iCalcreator 2.41.92//
CALSCALE:GREGORIAN
METHOD:PUBLISH
UID:31353533-6430-4638-a162-316663663766
X-WR-TIMEZONE:Europe/Berlin
X-LIC-LOCATION:Europe/Berlin
BEGIN:VTIMEZONE
TZID:Europe/Berlin
BEGIN:DAYLIGHT
TZOFFSETFROM:+0100
TZOFFSETTO:+0200
TZNAME:CEST
DTSTART:19700329T020000
RRULE:FREQ=YEARLY;BYDAY=-1SU;BYMONTH=3
END:DAYLIGHT
BEGIN:STANDARD
TZOFFSETFROM:+0200
TZOFFSETTO:+0100
TZNAME:CET
DTSTART:19701025T030000
RRULE:FREQ=YEARLY;BYDAY=-1SU;BYMONTH=10
END:STANDARD
END:VTIMEZONE
BEGIN:VEVENT
UID:36653664-3361-4161-b531-653562333264
DTSTAMP:20260421T194443Z
DESCRIPTION:Impulse zu Advent und Weihnachten\n \n Veranstaltungsort:\n Onl
 ine\n \n Veranstalter:\n Religionspädagogisches Institut der ev. Landeskir
 che in Baden (RPI)\n Blumenstraße 1-7\n 76133 Karlsruhe\n Telefon: +49 721
  9175-420\n http://www.rpi-baden.de
DTSTART;TZID=Europe/Berlin:20261106T143000
DTEND;TZID=Europe/Berlin:20261106T163000
LOCATION:Online
SUMMARY:Heruntergekommen\, geerdet und erhellt
X-ALT-DESC;FMTTYPE=text/html:Impulse zu Advent und Weihnachten<br /><br />V
 eranstaltungsort: <br />Online<br /><br />Veranstalter: <br />Religionspäd
 agogisches Institut der ev. Landeskirche in Baden (RPI)<br />Blumenstraße 
 1-7<br />76133 Karlsruhe<br />Telefon: +49 721 9175-420<br />http://www.rp
 i-baden.de
END:VEVENT
END:VCALENDAR
